BEGIN:VCALENDAR
VERSION:2.0
PRODID:-//Congressional Cemetery - ECPv6.15.11//NONSGML v1.0//EN
CALSCALE:GREGORIAN
METHOD:PUBLISH
X-ORIGINAL-URL:https://congressionalcemetery.org
X-WR-CALDESC:Events for Congressional Cemetery
REFRESH-INTERVAL;VALUE=DURATION:PT1H
X-Robots-Tag:noindex
X-PUBLISHED-TTL:PT1H
BEGIN:VTIMEZONE
TZID:America/New_York
BEGIN:DAYLIGHT
TZOFFSETFROM:-0500
TZOFFSETTO:-0400
TZNAME:EDT
DTSTART:20250309T070000
END:DAYLIGHT
BEGIN:STANDARD
TZOFFSETFROM:-0400
TZOFFSETTO:-0500
TZNAME:EST
DTSTART:20251102T060000
END:STANDARD
BEGIN:DAYLIGHT
TZOFFSETFROM:-0500
TZOFFSETTO:-0400
TZNAME:EDT
DTSTART:20260308T070000
END:DAYLIGHT
BEGIN:STANDARD
TZOFFSETFROM:-0400
TZOFFSETTO:-0500
TZNAME:EST
DTSTART:20261101T060000
END:STANDARD
BEGIN:DAYLIGHT
TZOFFSETFROM:-0500
TZOFFSETTO:-0400
TZNAME:EDT
DTSTART:20270314T070000
END:DAYLIGHT
BEGIN:STANDARD
TZOFFSETFROM:-0400
TZOFFSETTO:-0500
TZNAME:EST
DTSTART:20271107T060000
END:STANDARD
BEGIN:DAYLIGHT
TZOFFSETFROM:-0500
TZOFFSETTO:-0400
TZNAME:EDT
DTSTART:20280312T070000
END:DAYLIGHT
BEGIN:STANDARD
TZOFFSETFROM:-0400
TZOFFSETTO:-0500
TZNAME:EST
DTSTART:20281105T060000
END:STANDARD
END:VTIMEZONE
BEGIN:VEVENT
DTSTART;TZID=America/New_York:20261121T110000
DTEND;TZID=America/New_York:20261121T150000
DTSTAMP:20260421T043459
CREATED:20240917T142313Z
LAST-MODIFIED:20251024T195509Z
UID:10001418-1795258800-1795273200@congressionalcemetery.org
SUMMARY:Closed to Dogs
DESCRIPTION:Congressional Cemetery is closed to all dogs each Saturday from 11 a.m. to 3 p.m. for family grave site visits as well as during: \nFunerals  |  Private & community events  |  Federal holidays
URL:https://congressionalcemetery.org/event/closed-to-dogs/2026-11-21/
LOCATION:Historic Congressional Cemetery\, 1801 E Street\, Southeast\, Washington\, DC\, 20003\, United States
CATEGORIES:No Dogs Allowed
ATTACH;FMTTYPE=image/webp:https://congressionalcemetery.org/wp-content/uploads/2024/08/backlit-dog.webp
END:VEVENT
BEGIN:VEVENT
DTSTART;TZID=America/New_York:20261128T110000
DTEND;TZID=America/New_York:20261128T150000
DTSTAMP:20260421T043459
CREATED:20240917T142313Z
LAST-MODIFIED:20251024T195509Z
UID:10001419-1795863600-1795878000@congressionalcemetery.org
SUMMARY:Closed to Dogs
DESCRIPTION:Congressional Cemetery is closed to all dogs each Saturday from 11 a.m. to 3 p.m. for family grave site visits as well as during: \nFunerals  |  Private & community events  |  Federal holidays
URL:https://congressionalcemetery.org/event/closed-to-dogs/2026-11-28/
LOCATION:Historic Congressional Cemetery\, 1801 E Street\, Southeast\, Washington\, DC\, 20003\, United States
CATEGORIES:No Dogs Allowed
ATTACH;FMTTYPE=image/webp:https://congressionalcemetery.org/wp-content/uploads/2024/08/backlit-dog.webp
END:VEVENT
BEGIN:VEVENT
DTSTART;TZID=America/New_York:20261203T180000
DTEND;TZID=America/New_York:20261203T193000
DTSTAMP:20260421T043459
CREATED:20251211T172050Z
LAST-MODIFIED:20260109T162154Z
UID:10002063-1796320800-1796326200@congressionalcemetery.org
SUMMARY:Death Cafe at Congressional Cemetery
DESCRIPTION:We welcome you to join us at one of our monthly Death Cafes at Historic Congressional Cemetery. \nAs an active burial ground\, Historic Congressional Cemetery is well acquainted with death\, but just what is a Death Cafe? \nDeath Cafe is a global movement to encourage discussion about the often-taboo subject of death. These are intimate informal gatherings where we discuss death while eating cake and drinking tea to remind us of comfort and sweetness even in difficult times. There is no agenda other than providing a space for an open-ended conversation. \nPlease join us to explore these topics in the spirit of curiosity and wonder. These gatherings are not meant to offer or replace grief counseling. In the interest of privacy and being present\, we ask that these conversations remain in the room and there be no recording\, note-taking\, or personal details shared afterward. \nFollow this link for more about Death Cafe history and concept. \nOur Death Doula in Residence\, Laura Lyster-Mensh\, facilitates our death cafes and represents the cemetery for these evenings with a range of guest co-facilitators from the community. \nCongressional Cemetery offers these unique conversations free of charge\, and offers tea and sweets in the tradition of death cafes around the world. We do ask that you consider bringing a food or beverage item to share\, or a suggested $5 donation\, to help cover event costs. \nDue to space limitations and to allow us to offer an intimate conversation\, please reserve a chair in advance for the dates you will be joining us. We release reservations three months before the scheduled date. To be on the waitlist for any unavailable dates\, use the form on this page or contact Laura by email. \nQuestions? Email Laura at deathdoula@congressionalcemetery.org \nInterested? RSVP to reserve your seat HERE!
URL:https://congressionalcemetery.org/event/death-cafe-at-congressional-cemetery-4/2026-12-03/
LOCATION:Historic Congressional Cemetery\, 1801 E Street\, Southeast\, Washington\, DC\, 20003\, United States
CATEGORIES:Death Awareness,Death Cafe
ATTACH;FMTTYPE=image/jpeg:https://congressionalcemetery.org/wp-content/uploads/2024/09/Death-Cafe-Tea-scaled.jpg
END:VEVENT
BEGIN:VEVENT
DTSTART;TZID=America/New_York:20261205T110000
DTEND;TZID=America/New_York:20261205T150000
DTSTAMP:20260421T043459
CREATED:20240917T142313Z
LAST-MODIFIED:20251024T195509Z
UID:10001420-1796468400-1796482800@congressionalcemetery.org
SUMMARY:Closed to Dogs
DESCRIPTION:Congressional Cemetery is closed to all dogs each Saturday from 11 a.m. to 3 p.m. for family grave site visits as well as during: \nFunerals  |  Private & community events  |  Federal holidays
URL:https://congressionalcemetery.org/event/closed-to-dogs/2026-12-05/
LOCATION:Historic Congressional Cemetery\, 1801 E Street\, Southeast\, Washington\, DC\, 20003\, United States
CATEGORIES:No Dogs Allowed
ATTACH;FMTTYPE=image/webp:https://congressionalcemetery.org/wp-content/uploads/2024/08/backlit-dog.webp
END:VEVENT
BEGIN:VEVENT
DTSTART;TZID=America/New_York:20261212T110000
DTEND;TZID=America/New_York:20261212T150000
DTSTAMP:20260421T043459
CREATED:20240917T142313Z
LAST-MODIFIED:20251024T195509Z
UID:10001421-1797073200-1797087600@congressionalcemetery.org
SUMMARY:Closed to Dogs
DESCRIPTION:Congressional Cemetery is closed to all dogs each Saturday from 11 a.m. to 3 p.m. for family grave site visits as well as during: \nFunerals  |  Private & community events  |  Federal holidays
URL:https://congressionalcemetery.org/event/closed-to-dogs/2026-12-12/
LOCATION:Historic Congressional Cemetery\, 1801 E Street\, Southeast\, Washington\, DC\, 20003\, United States
CATEGORIES:No Dogs Allowed
ATTACH;FMTTYPE=image/webp:https://congressionalcemetery.org/wp-content/uploads/2024/08/backlit-dog.webp
END:VEVENT
BEGIN:VEVENT
DTSTART;TZID=America/New_York:20261219T110000
DTEND;TZID=America/New_York:20261219T150000
DTSTAMP:20260421T043459
CREATED:20240917T142313Z
LAST-MODIFIED:20251024T195509Z
UID:10001422-1797678000-1797692400@congressionalcemetery.org
SUMMARY:Closed to Dogs
DESCRIPTION:Congressional Cemetery is closed to all dogs each Saturday from 11 a.m. to 3 p.m. for family grave site visits as well as during: \nFunerals  |  Private & community events  |  Federal holidays
URL:https://congressionalcemetery.org/event/closed-to-dogs/2026-12-19/
LOCATION:Historic Congressional Cemetery\, 1801 E Street\, Southeast\, Washington\, DC\, 20003\, United States
CATEGORIES:No Dogs Allowed
ATTACH;FMTTYPE=image/webp:https://congressionalcemetery.org/wp-content/uploads/2024/08/backlit-dog.webp
END:VEVENT
BEGIN:VEVENT
DTSTART;TZID=America/New_York:20261226T110000
DTEND;TZID=America/New_York:20261226T150000
DTSTAMP:20260421T043459
CREATED:20240917T142313Z
LAST-MODIFIED:20251024T195509Z
UID:10001423-1798282800-1798297200@congressionalcemetery.org
SUMMARY:Closed to Dogs
DESCRIPTION:Congressional Cemetery is closed to all dogs each Saturday from 11 a.m. to 3 p.m. for family grave site visits as well as during: \nFunerals  |  Private & community events  |  Federal holidays
URL:https://congressionalcemetery.org/event/closed-to-dogs/2026-12-26/
LOCATION:Historic Congressional Cemetery\, 1801 E Street\, Southeast\, Washington\, DC\, 20003\, United States
CATEGORIES:No Dogs Allowed
ATTACH;FMTTYPE=image/webp:https://congressionalcemetery.org/wp-content/uploads/2024/08/backlit-dog.webp
END:VEVENT
BEGIN:VEVENT
DTSTART;TZID=America/New_York:20270102T110000
DTEND;TZID=America/New_York:20270102T150000
DTSTAMP:20260421T043459
CREATED:20240917T142313Z
LAST-MODIFIED:20251024T195509Z
UID:10001424-1798887600-1798902000@congressionalcemetery.org
SUMMARY:Closed to Dogs
DESCRIPTION:Congressional Cemetery is closed to all dogs each Saturday from 11 a.m. to 3 p.m. for family grave site visits as well as during: \nFunerals  |  Private & community events  |  Federal holidays
URL:https://congressionalcemetery.org/event/closed-to-dogs/2027-01-02/
LOCATION:Historic Congressional Cemetery\, 1801 E Street\, Southeast\, Washington\, DC\, 20003\, United States
CATEGORIES:No Dogs Allowed
ATTACH;FMTTYPE=image/webp:https://congressionalcemetery.org/wp-content/uploads/2024/08/backlit-dog.webp
END:VEVENT
BEGIN:VEVENT
DTSTART;TZID=America/New_York:20270109T110000
DTEND;TZID=America/New_York:20270109T150000
DTSTAMP:20260421T043459
CREATED:20240917T142313Z
LAST-MODIFIED:20251024T195509Z
UID:10001425-1799492400-1799506800@congressionalcemetery.org
SUMMARY:Closed to Dogs
DESCRIPTION:Congressional Cemetery is closed to all dogs each Saturday from 11 a.m. to 3 p.m. for family grave site visits as well as during: \nFunerals  |  Private & community events  |  Federal holidays
URL:https://congressionalcemetery.org/event/closed-to-dogs/2027-01-09/
LOCATION:Historic Congressional Cemetery\, 1801 E Street\, Southeast\, Washington\, DC\, 20003\, United States
CATEGORIES:No Dogs Allowed
ATTACH;FMTTYPE=image/webp:https://congressionalcemetery.org/wp-content/uploads/2024/08/backlit-dog.webp
END:VEVENT
BEGIN:VEVENT
DTSTART;TZID=America/New_York:20270116T110000
DTEND;TZID=America/New_York:20270116T150000
DTSTAMP:20260421T043459
CREATED:20240917T142313Z
LAST-MODIFIED:20251024T195509Z
UID:10001426-1800097200-1800111600@congressionalcemetery.org
SUMMARY:Closed to Dogs
DESCRIPTION:Congressional Cemetery is closed to all dogs each Saturday from 11 a.m. to 3 p.m. for family grave site visits as well as during: \nFunerals  |  Private & community events  |  Federal holidays
URL:https://congressionalcemetery.org/event/closed-to-dogs/2027-01-16/
LOCATION:Historic Congressional Cemetery\, 1801 E Street\, Southeast\, Washington\, DC\, 20003\, United States
CATEGORIES:No Dogs Allowed
ATTACH;FMTTYPE=image/webp:https://congressionalcemetery.org/wp-content/uploads/2024/08/backlit-dog.webp
END:VEVENT
BEGIN:VEVENT
DTSTART;TZID=America/New_York:20270123T110000
DTEND;TZID=America/New_York:20270123T150000
DTSTAMP:20260421T043459
CREATED:20240917T142313Z
LAST-MODIFIED:20251024T195509Z
UID:10001427-1800702000-1800716400@congressionalcemetery.org
SUMMARY:Closed to Dogs
DESCRIPTION:Congressional Cemetery is closed to all dogs each Saturday from 11 a.m. to 3 p.m. for family grave site visits as well as during: \nFunerals  |  Private & community events  |  Federal holidays
URL:https://congressionalcemetery.org/event/closed-to-dogs/2027-01-23/
LOCATION:Historic Congressional Cemetery\, 1801 E Street\, Southeast\, Washington\, DC\, 20003\, United States
CATEGORIES:No Dogs Allowed
ATTACH;FMTTYPE=image/webp:https://congressionalcemetery.org/wp-content/uploads/2024/08/backlit-dog.webp
END:VEVENT
BEGIN:VEVENT
DTSTART;TZID=America/New_York:20270130T110000
DTEND;TZID=America/New_York:20270130T150000
DTSTAMP:20260421T043459
CREATED:20240917T142313Z
LAST-MODIFIED:20251024T195509Z
UID:10001428-1801306800-1801321200@congressionalcemetery.org
SUMMARY:Closed to Dogs
DESCRIPTION:Congressional Cemetery is closed to all dogs each Saturday from 11 a.m. to 3 p.m. for family grave site visits as well as during: \nFunerals  |  Private & community events  |  Federal holidays
URL:https://congressionalcemetery.org/event/closed-to-dogs/2027-01-30/
LOCATION:Historic Congressional Cemetery\, 1801 E Street\, Southeast\, Washington\, DC\, 20003\, United States
CATEGORIES:No Dogs Allowed
ATTACH;FMTTYPE=image/webp:https://congressionalcemetery.org/wp-content/uploads/2024/08/backlit-dog.webp
END:VEVENT
BEGIN:VEVENT
DTSTART;TZID=America/New_York:20270206T110000
DTEND;TZID=America/New_York:20270206T150000
DTSTAMP:20260421T043459
CREATED:20240917T142313Z
LAST-MODIFIED:20251024T195509Z
UID:10001429-1801911600-1801926000@congressionalcemetery.org
SUMMARY:Closed to Dogs
DESCRIPTION:Congressional Cemetery is closed to all dogs each Saturday from 11 a.m. to 3 p.m. for family grave site visits as well as during: \nFunerals  |  Private & community events  |  Federal holidays
URL:https://congressionalcemetery.org/event/closed-to-dogs/2027-02-06/
LOCATION:Historic Congressional Cemetery\, 1801 E Street\, Southeast\, Washington\, DC\, 20003\, United States
CATEGORIES:No Dogs Allowed
ATTACH;FMTTYPE=image/webp:https://congressionalcemetery.org/wp-content/uploads/2024/08/backlit-dog.webp
END:VEVENT
BEGIN:VEVENT
DTSTART;TZID=America/New_York:20270213T110000
DTEND;TZID=America/New_York:20270213T150000
DTSTAMP:20260421T043459
CREATED:20240917T142313Z
LAST-MODIFIED:20251024T195509Z
UID:10001430-1802516400-1802530800@congressionalcemetery.org
SUMMARY:Closed to Dogs
DESCRIPTION:Congressional Cemetery is closed to all dogs each Saturday from 11 a.m. to 3 p.m. for family grave site visits as well as during: \nFunerals  |  Private & community events  |  Federal holidays
URL:https://congressionalcemetery.org/event/closed-to-dogs/2027-02-13/
LOCATION:Historic Congressional Cemetery\, 1801 E Street\, Southeast\, Washington\, DC\, 20003\, United States
CATEGORIES:No Dogs Allowed
ATTACH;FMTTYPE=image/webp:https://congressionalcemetery.org/wp-content/uploads/2024/08/backlit-dog.webp
END:VEVENT
BEGIN:VEVENT
DTSTART;TZID=America/New_York:20270220T110000
DTEND;TZID=America/New_York:20270220T150000
DTSTAMP:20260421T043459
CREATED:20240917T142313Z
LAST-MODIFIED:20251024T195509Z
UID:10001431-1803121200-1803135600@congressionalcemetery.org
SUMMARY:Closed to Dogs
DESCRIPTION:Congressional Cemetery is closed to all dogs each Saturday from 11 a.m. to 3 p.m. for family grave site visits as well as during: \nFunerals  |  Private & community events  |  Federal holidays
URL:https://congressionalcemetery.org/event/closed-to-dogs/2027-02-20/
LOCATION:Historic Congressional Cemetery\, 1801 E Street\, Southeast\, Washington\, DC\, 20003\, United States
CATEGORIES:No Dogs Allowed
ATTACH;FMTTYPE=image/webp:https://congressionalcemetery.org/wp-content/uploads/2024/08/backlit-dog.webp
END:VEVENT
BEGIN:VEVENT
DTSTART;TZID=America/New_York:20270227T110000
DTEND;TZID=America/New_York:20270227T150000
DTSTAMP:20260421T043459
CREATED:20240917T142313Z
LAST-MODIFIED:20251024T195509Z
UID:10001432-1803726000-1803740400@congressionalcemetery.org
SUMMARY:Closed to Dogs
DESCRIPTION:Congressional Cemetery is closed to all dogs each Saturday from 11 a.m. to 3 p.m. for family grave site visits as well as during: \nFunerals  |  Private & community events  |  Federal holidays
URL:https://congressionalcemetery.org/event/closed-to-dogs/2027-02-27/
LOCATION:Historic Congressional Cemetery\, 1801 E Street\, Southeast\, Washington\, DC\, 20003\, United States
CATEGORIES:No Dogs Allowed
ATTACH;FMTTYPE=image/webp:https://congressionalcemetery.org/wp-content/uploads/2024/08/backlit-dog.webp
END:VEVENT
BEGIN:VEVENT
DTSTART;TZID=America/New_York:20270306T110000
DTEND;TZID=America/New_York:20270306T150000
DTSTAMP:20260421T043459
CREATED:20240917T142313Z
LAST-MODIFIED:20251024T195509Z
UID:10001433-1804330800-1804345200@congressionalcemetery.org
SUMMARY:Closed to Dogs
DESCRIPTION:Congressional Cemetery is closed to all dogs each Saturday from 11 a.m. to 3 p.m. for family grave site visits as well as during: \nFunerals  |  Private & community events  |  Federal holidays
URL:https://congressionalcemetery.org/event/closed-to-dogs/2027-03-06/
LOCATION:Historic Congressional Cemetery\, 1801 E Street\, Southeast\, Washington\, DC\, 20003\, United States
CATEGORIES:No Dogs Allowed
ATTACH;FMTTYPE=image/webp:https://congressionalcemetery.org/wp-content/uploads/2024/08/backlit-dog.webp
END:VEVENT
BEGIN:VEVENT
DTSTART;TZID=America/New_York:20270313T110000
DTEND;TZID=America/New_York:20270313T150000
DTSTAMP:20260421T043459
CREATED:20240917T142313Z
LAST-MODIFIED:20251024T195509Z
UID:10001434-1804935600-1804950000@congressionalcemetery.org
SUMMARY:Closed to Dogs
DESCRIPTION:Congressional Cemetery is closed to all dogs each Saturday from 11 a.m. to 3 p.m. for family grave site visits as well as during: \nFunerals  |  Private & community events  |  Federal holidays
URL:https://congressionalcemetery.org/event/closed-to-dogs/2027-03-13/
LOCATION:Historic Congressional Cemetery\, 1801 E Street\, Southeast\, Washington\, DC\, 20003\, United States
CATEGORIES:No Dogs Allowed
ATTACH;FMTTYPE=image/webp:https://congressionalcemetery.org/wp-content/uploads/2024/08/backlit-dog.webp
END:VEVENT
BEGIN:VEVENT
DTSTART;TZID=America/New_York:20270320T110000
DTEND;TZID=America/New_York:20270320T150000
DTSTAMP:20260421T043459
CREATED:20240917T142313Z
LAST-MODIFIED:20251024T195509Z
UID:10001435-1805540400-1805554800@congressionalcemetery.org
SUMMARY:Closed to Dogs
DESCRIPTION:Congressional Cemetery is closed to all dogs each Saturday from 11 a.m. to 3 p.m. for family grave site visits as well as during: \nFunerals  |  Private & community events  |  Federal holidays
URL:https://congressionalcemetery.org/event/closed-to-dogs/2027-03-20/
LOCATION:Historic Congressional Cemetery\, 1801 E Street\, Southeast\, Washington\, DC\, 20003\, United States
CATEGORIES:No Dogs Allowed
ATTACH;FMTTYPE=image/webp:https://congressionalcemetery.org/wp-content/uploads/2024/08/backlit-dog.webp
END:VEVENT
BEGIN:VEVENT
DTSTART;TZID=America/New_York:20270327T110000
DTEND;TZID=America/New_York:20270327T150000
DTSTAMP:20260421T043459
CREATED:20240917T142313Z
LAST-MODIFIED:20251024T195509Z
UID:10001436-1806145200-1806159600@congressionalcemetery.org
SUMMARY:Closed to Dogs
DESCRIPTION:Congressional Cemetery is closed to all dogs each Saturday from 11 a.m. to 3 p.m. for family grave site visits as well as during: \nFunerals  |  Private & community events  |  Federal holidays
URL:https://congressionalcemetery.org/event/closed-to-dogs/2027-03-27/
LOCATION:Historic Congressional Cemetery\, 1801 E Street\, Southeast\, Washington\, DC\, 20003\, United States
CATEGORIES:No Dogs Allowed
ATTACH;FMTTYPE=image/webp:https://congressionalcemetery.org/wp-content/uploads/2024/08/backlit-dog.webp
END:VEVENT
BEGIN:VEVENT
DTSTART;TZID=America/New_York:20270403T110000
DTEND;TZID=America/New_York:20270403T150000
DTSTAMP:20260421T043459
CREATED:20240917T142313Z
LAST-MODIFIED:20251024T195509Z
UID:10001437-1806750000-1806764400@congressionalcemetery.org
SUMMARY:Closed to Dogs
DESCRIPTION:Congressional Cemetery is closed to all dogs each Saturday from 11 a.m. to 3 p.m. for family grave site visits as well as during: \nFunerals  |  Private & community events  |  Federal holidays
URL:https://congressionalcemetery.org/event/closed-to-dogs/2027-04-03/
LOCATION:Historic Congressional Cemetery\, 1801 E Street\, Southeast\, Washington\, DC\, 20003\, United States
CATEGORIES:No Dogs Allowed
ATTACH;FMTTYPE=image/webp:https://congressionalcemetery.org/wp-content/uploads/2024/08/backlit-dog.webp
END:VEVENT
BEGIN:VEVENT
DTSTART;TZID=America/New_York:20270410T110000
DTEND;TZID=America/New_York:20270410T150000
DTSTAMP:20260421T043459
CREATED:20240917T142313Z
LAST-MODIFIED:20251024T195509Z
UID:10001438-1807354800-1807369200@congressionalcemetery.org
SUMMARY:Closed to Dogs
DESCRIPTION:Congressional Cemetery is closed to all dogs each Saturday from 11 a.m. to 3 p.m. for family grave site visits as well as during: \nFunerals  |  Private & community events  |  Federal holidays
URL:https://congressionalcemetery.org/event/closed-to-dogs/2027-04-10/
LOCATION:Historic Congressional Cemetery\, 1801 E Street\, Southeast\, Washington\, DC\, 20003\, United States
CATEGORIES:No Dogs Allowed
ATTACH;FMTTYPE=image/webp:https://congressionalcemetery.org/wp-content/uploads/2024/08/backlit-dog.webp
END:VEVENT
BEGIN:VEVENT
DTSTART;TZID=America/New_York:20270417T110000
DTEND;TZID=America/New_York:20270417T150000
DTSTAMP:20260421T043459
CREATED:20240917T142313Z
LAST-MODIFIED:20251024T195509Z
UID:10001439-1807959600-1807974000@congressionalcemetery.org
SUMMARY:Closed to Dogs
DESCRIPTION:Congressional Cemetery is closed to all dogs each Saturday from 11 a.m. to 3 p.m. for family grave site visits as well as during: \nFunerals  |  Private & community events  |  Federal holidays
URL:https://congressionalcemetery.org/event/closed-to-dogs/2027-04-17/
LOCATION:Historic Congressional Cemetery\, 1801 E Street\, Southeast\, Washington\, DC\, 20003\, United States
CATEGORIES:No Dogs Allowed
ATTACH;FMTTYPE=image/webp:https://congressionalcemetery.org/wp-content/uploads/2024/08/backlit-dog.webp
END:VEVENT
BEGIN:VEVENT
DTSTART;TZID=America/New_York:20270424T110000
DTEND;TZID=America/New_York:20270424T150000
DTSTAMP:20260421T043459
CREATED:20240917T142313Z
LAST-MODIFIED:20251024T195509Z
UID:10001440-1808564400-1808578800@congressionalcemetery.org
SUMMARY:Closed to Dogs
DESCRIPTION:Congressional Cemetery is closed to all dogs each Saturday from 11 a.m. to 3 p.m. for family grave site visits as well as during: \nFunerals  |  Private & community events  |  Federal holidays
URL:https://congressionalcemetery.org/event/closed-to-dogs/2027-04-24/
LOCATION:Historic Congressional Cemetery\, 1801 E Street\, Southeast\, Washington\, DC\, 20003\, United States
CATEGORIES:No Dogs Allowed
ATTACH;FMTTYPE=image/webp:https://congressionalcemetery.org/wp-content/uploads/2024/08/backlit-dog.webp
END:VEVENT
BEGIN:VEVENT
DTSTART;TZID=America/New_York:20270501T110000
DTEND;TZID=America/New_York:20270501T150000
DTSTAMP:20260421T043459
CREATED:20240917T142313Z
LAST-MODIFIED:20251024T195509Z
UID:10001441-1809169200-1809183600@congressionalcemetery.org
SUMMARY:Closed to Dogs
DESCRIPTION:Congressional Cemetery is closed to all dogs each Saturday from 11 a.m. to 3 p.m. for family grave site visits as well as during: \nFunerals  |  Private & community events  |  Federal holidays
URL:https://congressionalcemetery.org/event/closed-to-dogs/2027-05-01/
LOCATION:Historic Congressional Cemetery\, 1801 E Street\, Southeast\, Washington\, DC\, 20003\, United States
CATEGORIES:No Dogs Allowed
ATTACH;FMTTYPE=image/webp:https://congressionalcemetery.org/wp-content/uploads/2024/08/backlit-dog.webp
END:VEVENT
BEGIN:VEVENT
DTSTART;TZID=America/New_York:20270508T110000
DTEND;TZID=America/New_York:20270508T150000
DTSTAMP:20260421T043459
CREATED:20240917T142313Z
LAST-MODIFIED:20251024T195509Z
UID:10001442-1809774000-1809788400@congressionalcemetery.org
SUMMARY:Closed to Dogs
DESCRIPTION:Congressional Cemetery is closed to all dogs each Saturday from 11 a.m. to 3 p.m. for family grave site visits as well as during: \nFunerals  |  Private & community events  |  Federal holidays
URL:https://congressionalcemetery.org/event/closed-to-dogs/2027-05-08/
LOCATION:Historic Congressional Cemetery\, 1801 E Street\, Southeast\, Washington\, DC\, 20003\, United States
CATEGORIES:No Dogs Allowed
ATTACH;FMTTYPE=image/webp:https://congressionalcemetery.org/wp-content/uploads/2024/08/backlit-dog.webp
END:VEVENT
BEGIN:VEVENT
DTSTART;TZID=America/New_York:20270515T110000
DTEND;TZID=America/New_York:20270515T150000
DTSTAMP:20260421T043459
CREATED:20240917T142313Z
LAST-MODIFIED:20251024T195509Z
UID:10001443-1810378800-1810393200@congressionalcemetery.org
SUMMARY:Closed to Dogs
DESCRIPTION:Congressional Cemetery is closed to all dogs each Saturday from 11 a.m. to 3 p.m. for family grave site visits as well as during: \nFunerals  |  Private & community events  |  Federal holidays
URL:https://congressionalcemetery.org/event/closed-to-dogs/2027-05-15/
LOCATION:Historic Congressional Cemetery\, 1801 E Street\, Southeast\, Washington\, DC\, 20003\, United States
CATEGORIES:No Dogs Allowed
ATTACH;FMTTYPE=image/webp:https://congressionalcemetery.org/wp-content/uploads/2024/08/backlit-dog.webp
END:VEVENT
BEGIN:VEVENT
DTSTART;TZID=America/New_York:20270522T110000
DTEND;TZID=America/New_York:20270522T150000
DTSTAMP:20260421T043459
CREATED:20240917T142313Z
LAST-MODIFIED:20251024T195509Z
UID:10001444-1810983600-1810998000@congressionalcemetery.org
SUMMARY:Closed to Dogs
DESCRIPTION:Congressional Cemetery is closed to all dogs each Saturday from 11 a.m. to 3 p.m. for family grave site visits as well as during: \nFunerals  |  Private & community events  |  Federal holidays
URL:https://congressionalcemetery.org/event/closed-to-dogs/2027-05-22/
LOCATION:Historic Congressional Cemetery\, 1801 E Street\, Southeast\, Washington\, DC\, 20003\, United States
CATEGORIES:No Dogs Allowed
ATTACH;FMTTYPE=image/webp:https://congressionalcemetery.org/wp-content/uploads/2024/08/backlit-dog.webp
END:VEVENT
BEGIN:VEVENT
DTSTART;TZID=America/New_York:20270529T110000
DTEND;TZID=America/New_York:20270529T150000
DTSTAMP:20260421T043459
CREATED:20240917T142313Z
LAST-MODIFIED:20251024T195509Z
UID:10001445-1811588400-1811602800@congressionalcemetery.org
SUMMARY:Closed to Dogs
DESCRIPTION:Congressional Cemetery is closed to all dogs each Saturday from 11 a.m. to 3 p.m. for family grave site visits as well as during: \nFunerals  |  Private & community events  |  Federal holidays
URL:https://congressionalcemetery.org/event/closed-to-dogs/2027-05-29/
LOCATION:Historic Congressional Cemetery\, 1801 E Street\, Southeast\, Washington\, DC\, 20003\, United States
CATEGORIES:No Dogs Allowed
ATTACH;FMTTYPE=image/webp:https://congressionalcemetery.org/wp-content/uploads/2024/08/backlit-dog.webp
END:VEVENT
BEGIN:VEVENT
DTSTART;TZID=America/New_York:20270605T110000
DTEND;TZID=America/New_York:20270605T150000
DTSTAMP:20260421T043459
CREATED:20240917T142313Z
LAST-MODIFIED:20251024T195509Z
UID:10001446-1812193200-1812207600@congressionalcemetery.org
SUMMARY:Closed to Dogs
DESCRIPTION:Congressional Cemetery is closed to all dogs each Saturday from 11 a.m. to 3 p.m. for family grave site visits as well as during: \nFunerals  |  Private & community events  |  Federal holidays
URL:https://congressionalcemetery.org/event/closed-to-dogs/2027-06-05/
LOCATION:Historic Congressional Cemetery\, 1801 E Street\, Southeast\, Washington\, DC\, 20003\, United States
CATEGORIES:No Dogs Allowed
ATTACH;FMTTYPE=image/webp:https://congressionalcemetery.org/wp-content/uploads/2024/08/backlit-dog.webp
END:VEVENT
END:VCALENDAR