BEGIN:VCALENDAR
VERSION:2.0
PRODID:-//Congressional Cemetery - ECPv6.15.11//NONSGML v1.0//EN
CALSCALE:GREGORIAN
METHOD:PUBLISH
X-WR-CALNAME:Congressional Cemetery
X-ORIGINAL-URL:https://congressionalcemetery.org
X-WR-CALDESC:Events for Congressional Cemetery
REFRESH-INTERVAL;VALUE=DURATION:PT1H
X-Robots-Tag:noindex
X-PUBLISHED-TTL:PT1H
BEGIN:VTIMEZONE
TZID:America/New_York
BEGIN:DAYLIGHT
TZOFFSETFROM:-0500
TZOFFSETTO:-0400
TZNAME:EDT
DTSTART:20240310T070000
END:DAYLIGHT
BEGIN:STANDARD
TZOFFSETFROM:-0400
TZOFFSETTO:-0500
TZNAME:EST
DTSTART:20241103T060000
END:STANDARD
BEGIN:DAYLIGHT
TZOFFSETFROM:-0500
TZOFFSETTO:-0400
TZNAME:EDT
DTSTART:20250309T070000
END:DAYLIGHT
BEGIN:STANDARD
TZOFFSETFROM:-0400
TZOFFSETTO:-0500
TZNAME:EST
DTSTART:20251102T060000
END:STANDARD
BEGIN:DAYLIGHT
TZOFFSETFROM:-0500
TZOFFSETTO:-0400
TZNAME:EDT
DTSTART:20260308T070000
END:DAYLIGHT
BEGIN:STANDARD
TZOFFSETFROM:-0400
TZOFFSETTO:-0500
TZNAME:EST
DTSTART:20261101T060000
END:STANDARD
END:VTIMEZONE
BEGIN:VEVENT
DTSTART;TZID=America/New_York:20250624T180000
DTEND;TZID=America/New_York:20250624T200000
DTSTAMP:20260423T153718
CREATED:20250603T190456Z
LAST-MODIFIED:20250610T194425Z
UID:10001814-1750788000-1750795200@congressionalcemetery.org
SUMMARY:From the Garden: 'Dem Bones Workshop
DESCRIPTION:Do your joints ache? \nIs your spine rounding? \nAre you worried about your bones becoming weaker as you age? \nDo you have trouble keeping your tendons and ligaments in working order? \nIf this sounds like you or a loved one\, then this workshop could be just what you need! \nIt’s a common misconception that these complaints can’t be eased with natural remedies. Our glorious planet provides us with so many fun and delightful medicines to help us age well and ease our imbalances. In fact\, there are abundant herbs that grow right in our backyards and local parks that can help: strengthen and remineralize our bones; tone our tendons and ligaments\, lubricate our joints\, and generally put everything back in it’s proper place and keep it there! \nMany of these remedies contain a miraculous substance called mucilage\, which extracts best in vinegar…a powerful remineralizing remedy in and of itself! \nCome learn from Crystal Woodling about the alchemical wonders and history of herbal healing and vinegars this Summer Solstice in a celebration of everything skeletal! \nYou’ll alchemically craft your very own custom bone mending vinegar in this myth and lore-filled workshop! \n  \n\nRSVP HERE \nSell tickets online with Ticketleap
URL:https://congressionalcemetery.org/event/from-the-garden-dem-bones-workshop/
LOCATION:Historic Congressional Cemetery Chapel\, 1801 E Street\, Southeast\, Washington\, DC\, 20003\, United States
ATTACH;FMTTYPE=image/jpeg:https://congressionalcemetery.org/wp-content/uploads/2025/06/Adopt-A-Plot-Logo_no-words.jpg
END:VEVENT
END:VCALENDAR